Workbook

Sheet TPH-B Ratios Unsorted
B2: Supplement: Summary of USEPA Petroleum Vapor Intrusion database samples for gasoline-only sites with TPH >1,000 µg/m3 [31].
B3: (Write-protection password: TPH)
B4: Site Count | C4: Site ID | D4: Sample Count | E4: Sample ID | F4: Site Type | G4: TPH µg/m3 | H4: Benzene (µg/m3) | I4: TPH:Benzene
B5: 1 | C5: 402 | D5: 1 | E5: 2579 | F5: UST | G5: 25000 | H5: 900 | I5: =G5/H5 -> 27.777778
C6: 402 | D6: =1+D5 -> 2 | E6: 2582 | F6: UST | G6: 28000000 | H6: 200000 | I6: =G6/H6 -> 140
B7: 2 | C7: 409 | D7: =1+D6 -> 3 | E7: 2849 | F7: UST | G7: 46000 | H7: 2600 | I7: =G7/H7 -> 17.692308
C8: 409 | D8: =1+D7 -> 4 | E8: 2850 | F8: UST | G8: 3600 | H8: 140 | I8: =G8/H8 -> 25.714286
C9: 409 | D9: =1+D8 -> 5 | E9: 2851 | F9: UST | G9: 1700 | H9: 100 | I9: =G9/H9 -> 17
C10: 409 | D10: =1+D9 -> 6 | E10: 2852 | F10: UST | G10: 1000 | H10: 16 | I10: =G10/H10 -> 62.5
C11: 409 | D11: =1+D10 -> 7 | E11: 2853 | F11: UST | G11: 25000 | H11: 940 | I11: =G11/H11 -> 26.595745
C12: 409 | D12: =1+D11 -> 8 | E12: 2854 | F12: UST | G12: 1200 | H12: 7.1 | I12: =G12/H12 -> 169.01408
C13: 409 | D13: =1+D12 -> 9 | E13: 2855 | F13: UST | G13: 4000 | H13: 49 | I13: =G13/H13 -> 81.632653
C14: 409 | D14: =1+D13 -> 10 | E14: 2856 | F14: UST | G14: 53000 | H14: 8100 | I14: =G14/H14 -> 6.5432099
B15: 3 | C15: 410 | D15: =1+D14 -> 11 | E15: 2875 | F15: UST | G15: 8250 | H15: 18.2 | I15: =G15/H15 -> 453.2967
C16: 410 | D16: =1+D15 -> 12 | E16: 2876 | F16: UST | G16: 2860 | H16: 2.8 | I16: =G16/H16 -> 1021.4286
C17: 410 | D17: =1+D16 -> 13 | E17: 2879 | F17: UST | G17: 4080 | H17: 27 | I17: =G17/H17 -> 151.11111
B18: 4 | C18: 411 | D18: =1+D17 -> 14 | E18: 2881 | F18: UST | G18: 4340 | H18: 12 | I18: =G18/H18 -> 361.66667
C19: 411 | D19: =1+D18 -> 15 | E19: 2882 | F19: UST | G19: 1300 | H19: 2.7 | I19: =G19/H19 -> 481.48148
C20: 411 | D20: =1+D19 -> 16 | E20: 2883 | F20: UST | G20: 1430 | H20: 8.12 | I20: =G20/H20 -> 176.10837
C21: 411 | D21: =1+D20 -> 17 | E21: 2884 | F21: UST | G21: 3260 | H21: 7.47 | I21: =G21/H21 -> 436.41232
B22: 5 | C22: 412 | D22: =1+D21 -> 18 | E22: 2885 | F22: UST | G22: 3780 | H22: 37 | I22: =G22/H22 -> 102.16216
C23: 412 | D23: =1+D22 -> 19 | E23: 2888 | F23: UST | G23: 7210 | H23: 37 | I23: =G23/H23 -> 194.86486
C24: 412 | D24: =1+D23 -> 20 | E24: 2889 | F24: UST | G24: 43400 | H24: 40 | I24: =G24/H24 -> 1085
B25: 6 | C25: 413 | D25: =1+D24 -> 21 | E25: 2891 | F25: UST | G25: 139000 | H25: 150 | I25: =G25/H25 -> 926.66667
C26: 413 | D26: =1+D25 -> 22 | E26: 2892 | F26: UST | G26: 15600 | H26: 18.2 | I26: =G26/H26 -> 857.14286
C27: 413 | D27: =1+D26 -> 23 | E27: 2894 | F27: UST | G27: 64700 | H27: 84.4 | I27: =G27/H27 -> 766.58768
C28: 413 | D28: =1+D27 -> 24 | E28: 2895 | F28: UST | G28: 12600 | H28: 12 | I28: =G28/H28 -> 1050
B29: 7 | C29: 414 | D29: =1+D28 -> 25 | E29: 2898 | F29: UST | G29: 3950 | H29: 25 | I29: =G29/H29 -> 158
C30: 414 | D30: =1+D29 -> 26 | E30: 2900 | F30: UST | G30: 5210 | H30: 25 | I30: =G30/H30 -> 208.4
C31: 414 | D31: =1+D30 -> 27 | E31: 2901 | F31: UST | G31: 4340 | H31: 25.3 | I31: =G31/H31 -> 171.5415
B32: 8 | C32: 415 | D32: =1+D31 -> 28 | E32: 2903 | F32: UST | G32: 265000 | H32: 1430 | I32: =G32/H32 -> 185.31469
C33: 415 | D33: =1+D32 -> 29 | E33: 2904 | F33: UST | G33: 2820 | H33: 5.2 | I33: =G33/H33 -> 542.30769
C34: 415 | D34: =1+D33 -> 30 | E34: 2907 | F34: UST | G34: 130000 | H34: 422 | I34: =G34/H34 -> 308.05687
B35: 9 | C35: 416 | D35: =1+D34 -> 31 | E35: 2910 | F35: UST | G35: 781000 | H35: 182 | I35: =G35/H35 -> 4291.2088
B36: 10 | C36: 417 | D36: =1+D35 -> 32 | E36: 2915 | F36: UST | G36: 1650 | H36: 20.5 | I36: =G36/H36 -> 80.487805
C37: 417 | D37: =1+D36 -> 33 | E37: 2918 | F37: UST | G37: 5990 | H37: 24.4 | I37: =G37/H37 -> 245.4918
C38: 417 | D38: =1+D37 -> 34 | E38: 2919 | F38: UST | G38: 8290 | H38: 34.1 | I38: =G38/H38 -> 243.1085
C39: 417 | D39: =1+D38 -> 35 | E39: 2921 | F39: UST | G39: 38400 | H39: 61.4 | I39: =G39/H39 -> 625.40717
C40: 417 | D40: =1+D39 -> 36 | E40: 2922 | F40: UST | G40: 46900 | H40: 0.1 | I40: =G40/H40 -> 469000
C41: 417 | D41: =1+D40 -> 37 | E41: 2924 | F41: UST | G41: 10500 | H41: 0.1 | I41: =G41/H41 -> 105000
C42: 417 | D42: =1+D41 -> 38 | E42: 2925 | F42: UST | G42: 3290 | H42: 15.6 | I42: =G42/H42 -> 210.89744
C43: 417 | D43: =1+D42 -> 39 | E43: 2927 | F43: UST | G43: 4730 | H43: 23.1 | I43: =G43/H43 -> 204.7619
C44: 417 | D44: =1+D43 -> 40 | E44: 2928 | F44: UST | G44: 2740 | H44: 14.6 | I44: =G44/H44 -> 187.67123
B45: 11 | C45: 418 | D45: =1+D44 -> 41 | E45: 2929 | F45: UST | G45: 1780000 | H45: 10700 | I45: =G45/H45 -> 166.35514
C46: 418 | D46: =1+D45 -> 42 | E46: 2932 | F46: UST | G46: 5210 | H46: 0.1 | I46: =G46/H46 -> 52100
B47: 12 | C47: 419 | D47: =1+D46 -> 43 | E47: 2935 | F47: UST | G47: 2730 | H47: 45 | I47: =G47/H47 -> 60.666667
C48: 419 | D48: =1+D47 -> 44 | E48: 2936 | F48: UST | G48: 1170000 | H48: 6170 | I48: =G48/H48 -> 189.62723
B49: 13 | C49: 420 | D49: =1+D48 -> 45 | E49: 2941 | F49: UST | G49: 43200 | H49: 46.1 | I49: =G49/H49 -> 937.09328
C50: 420 | D50: =1+D49 -> 46 | E50: 2942 | F50: UST | G50: 456000 | H50: 270 | I50: =G50/H50 -> 1688.8889
C51: 420 | D51: =1+D50 -> 47 | E51: 2944 | F51: UST | G51: 120000 | H51: 487 | I51: =G51/H51 -> 246.40657
C52: 420 | D52: =1+D51 -> 48 | E52: 2945 | F52: UST | G52: 318000 | H52: 100 | I52: =G52/H52 -> 3180
B53: 14 | C53: 421 | D53: =1+D52 -> 49 | E53: 2947 | F53: UST | G53: 1130000 | H53: 360 | I53: =G53/H53 -> 3138.8889
C54: 421 | D54: =1+D53 -> 50 | E54: 2948 | F54: UST | G54: 9980000 | H54: 9090 | I54: =G54/H54 -> 1097.9098
C55: 422 | D55: =1+D54 -> 51 | E55: 2954 | F55: UST | G55: 3950 | H55: 25 | I55: =G55/H55 -> 158
C56: 422 | D56: =1+D55 -> 52 | E56: 2956 | F56: UST | G56: 5210 | H56: 24 | I56: =G56/H56 -> 217.08333
C57: 422 | D57: =1+D56 -> 53 | E57: 2957 | F57: UST | G57: 4340 | H57: 25.3 | I57: =G57/H57 -> 171.5415
B58: 15 | C58: 423 | D58: =1+D57 -> 54 | E58: 2959 | F58: UST | G58: 2690 | H58: 25 | I58: =G58/H58 -> 107.6
C59: 423 | D59: =1+D58 -> 55 | E59: 2960 | F59: UST | G59: 3950 | H59: 35.7 | I59: =G59/H59 -> 110.64426
C60: 423 | D60: =1+D59 -> 56 | E60: 2962 | F60: UST | G60: 2910 | H60: 26 | I60: =G60/H60 -> 111.92308
C61: 423 | D61: =1+D60 -> 57 | E61: 2963 | F61: UST | G61: 3990 | H61: 39 | I61: =G61/H61 -> 102.30769
B62: 16 | C62: 424 | D62: =1+D61 -> 58 | E62: 2966 | F62: UST | G62: 1040 | H62: 4.22 | I62: =G62/H62 -> 246.4455
C63: 424 | D63: =1+D62 -> 59 | E63: 2968 | F63: UST | G63: 1740 | H63: 5.2 | I63: =G63/H63 -> 334.61538
C64: 424 | D64: =1+D63 -> 60 | E64: 2969 | F64: UST | G64: 1300 | H64: 52 | I64: =G64/H64 -> 25
B65: 17 | C65: 425 | D65: =1+D64 -> 61 | E65: 2972 | F65: UST | G65: 2650 | H65: 3.25 | I65: =G65/H65 -> 815.38462
B66: 18 | C66: 426 | D66: =1+D65 -> 62 | E66: 2977 | F66: UST | G66: 5720 | H66: 17.6 | I66: =G66/H66 -> 325
C67: 426 | D67: =1+D66 -> 63 | E67: 2978 | F67: UST | G67: 354000 | H67: 47.9 | I67: =G67/H67 -> 7390.3967
C68: 426 | D68: =1+D67 -> 64 | E68: 2980 | F68: UST | G68: 2130 | H68: 4.79 | I68: =G68/H68 -> 444.67641
B69: 19 | C69: 427 | D69: =1+D68 -> 65 | E69: 2982 | F69: UST | G69: 16500 | H69: 52 | I69: =G69/H69 -> 317.30769
C70: 427 | D70: =1+D69 -> 66 | E70: 2983 | F70: UST | G70: 21700 | H70: 150 | I70: =G70/H70 -> 144.66667
C71: 427 | D71: =1+D70 -> 67 | E71: 2985 | F71: UST | G71: 7810 | H71: 42 | I71: =G71/H71 -> 185.95238
B72: 20 | C72: 428 | D72: =1+D71 -> 68 | E72: 2986 | F72: UST | G72: 18200000 | H72: 455000 | I72: =G72/H72 -> 40
C73: 428 | D73: =1+D72 -> 69 | E73: 2987 | F73: UST | G73: 14300000 | H73: 312000 | I73: =G73/H73 -> 45.833333
C74: 428 | D74: =1+D73 -> 70 | E74: 2989 | F74: UST | G74: 9800 | H74: 79 | I74: =G74/H74 -> 124.05063
B75: 21 | C75: 429 | D75: =1+D74 -> 71 | E75: 2992 | F75: UST | G75: 25100 | H75: 45 | I75: =G75/H75 -> 557.77778
C76: 429 | D76: =1+D75 -> 72 | E76: 2993 | F76: UST | G76: 75500 | H76: 45 | I76: =G76/H76 -> 1677.7778
C77: 429 | D77: =1+D76 -> 73 | E77: 2995 | F77: UST | G77: 248000 | H77: 45 | I77: =G77/H77 -> 5511.1111
C78: 429 | D78: =1+D77 -> 74 | E78: 2996 | F78: UST | G78: 1630 | H78: 12 | I78: =G78/H78 -> 135.83333
B79: 22 | C79: 430 | D79: =1+D78 -> 75 | E79: 2998 | F79: UST | G79: 6100 | H79: 450 | I79: =G79/H79 -> 13.555556
C80: 430 | D80: =1+D79 -> 76 | E80: 2999 | F80: UST | G80: 174000 | H80: 2830 | I80: =G80/H80 -> 61.484099
C81: 430 | D81: =1+D80 -> 77 | E81: 3000 | F81: UST | G81: 7400 | H81: 550 | I81: =G81/H81 -> 13.454545
C82: 430 | D82: =1+D81 -> 78 | E82: 3001 | F82: UST | G82: 7400 | H82: 550 | I82: =G82/H82 -> 13.454545
B83: 23 | C83: 431 | D83: =1+D82 -> 79 | E83: 3002 | F83: UST | G83: 6940 | H83: 42 | I83: =G83/H83 -> 165.2381
C84: 431 | D84: =1+D83 -> 80 | E84: 3003 | F84: UST | G84: 3780 | H84: 52 | I84: =G84/H84 -> 72.692308
C85: 431 | D85: =1+D84 -> 81 | E85: 3005 | F85: UST | G85: 73800 | H85: 45 | I85: =G85/H85 -> 1640
B86: 24 | C86: 436 | D86: =1+D85 -> 82 | E86: 3093 | F86: UST | G86: 100000 | H86: 480 | I86: =G86/H86 -> 208.33333
C87: 436 | D87: =1+D86 -> 83 | E87: 3094 | F87: UST | G87: 210000 | H87: 880 | I87: =G87/H87 -> 238.63636
C88: 436 | D88: =1+D87 -> 84 | E88: 3095 | F88: UST | G88: 100000000 | H88: 270000 | I88: =G88/H88 -> 370.37037
C89: 436 | D89: =1+D88 -> 85 | E89: 3097 | F89: UST | G89: 160000 | H89: 530 | I89: =G89/H89 -> 301.88679
C90: 436 | D90: =1+D89 -> 86 | E90: 3098 | F90: UST | G90: 110000000 | H90: 210000 | I90: =G90/H90 -> 523.80952
C91: 436 | D91: =1+D90 -> 87 | E91: 3099 | F91: UST | G91: 74000 | H91: 4.3 | I91: =G91/H91 -> 17209.302
C92: 436 | D92: =1+D91 -> 88 | E92: 3100 | F92: UST | G92: 20000000 | H92: 1000 | I92: =G92/H92 -> 20000
C93: 436 | D93: =1+D92 -> 89 | E93: 3102 | F93: UST | G93: 490000 | H93: 80 | I93: =G93/H93 -> 6125
C94: 436 | D94: =1+D93 -> 90 | E94: 3103 | F94: UST | G94: 35000000 | H94: 1300 | I94: =G94/H94 -> 26923.077
B95: 25 | C95: 437 | D95: =1+D94 -> 91 | E95: 3104 | F95: Terminal | G95: 540000 | H95: 200 | I95: =G95/H95 -> 2700
C96: 437 | D96: =1+D95 -> 92 | E96: 3105 | F96: Terminal | G96: 4500000 | H96: 500 | I96: =G96/H96 -> 9000
C97: 437 | D97: =1+D96 -> 93 | E97: 3106 | F97: Terminal | G97: 57000000 | H97: 380000 | I97: =G97/H97 -> 150
C98: 437 | D98: =1+D97 -> 94 | E98: 3108 | F98: Terminal | G98: 43000000 | H98: 480000 | I98: =G98/H98 -> 89.583333
B99: 26 | C99: 438 | D99: =1+D98 -> 95 | E99: 3110 | F99: UST | G99: 13000000 | H99: 10000 | I99: =G99/H99 -> 1300
C100: 438 | D100: =1+D99 -> 96 | E100: 3111 | F100: UST | G100: 15000000 | H100: 11000 | I100: =G100/H100 -> 1363.6364
C101: 438 | D101: =1+D100 -> 97 | E101: 3112 | F101: UST | G101: 11000000 | H101: 15000 | I101: =G101/H101 -> 733.33333
...

Sheet TPH-B Ratios Sorted
B2: Supplement (cont.): Summary of USEPA Petroleum Vapor Intrusion database samples for gasoline-only sites with TPH >1,000 µg/m3 [31].
B3: (Write-protection password: TPH)
B4: Count | C4: Site ID# | D4: Sample ID# | E4: Site Type | F4: TPH (ug/m3) | G4: Benzene (ug/m3) | H4: TPH:Benzene
B5: 1 | C5: 444 | D5: 3337 | E5: UST | F5: 11000000 | G5: 2400000 | H5: =F5/G5 -> 4.5833333
B6: =1+B5 -> 2 | C6: 444 | D6: 3317 | E6: UST | F6: 4000 | G6: 720 | H6: =F6/G6 -> 5.5555556
B7: =1+B6 -> 3 | C7: 409 | D7: 2856 | E7: UST | F7: 53000 | G7: 8100 | H7: =F7/G7 -> 6.5432099
B8: =1+B7 -> 4 | C8: 467 | D8: 3842 | E8: UST | F8: 11000 | G8: 1300 | H8: =F8/G8 -> 8.4615385
B9: =1+B8 -> 5 | C9: 430 | D9: 3000 | E9: UST | F9: 7400 | G9: 550 | H9: =F9/G9 -> 13.454545
B10: =1+B9 -> 6 | C10: 430 | D10: 3001 | E10: UST | F10: 7400 | G10: 550 | H10: =F10/G10 -> 13.454545
B11: =1+B10 -> 7 | C11: 430 | D11: 2998 | E11: UST | F11: 6100 | G11: 450 | H11: =F11/G11 -> 13.555556
B12: =1+B11 -> 8 | C12: 465 | D12: 3831 | E12: UST | F12: 47990 | G12: 2900 | H12: =F12/G12 -> 16.548276
B13: =1+B12 -> 9 | C13: 409 | D13: 2851 | E13: UST | F13: 1700 | G13: 100 | H13: =F13/G13 -> 17
B14: =1+B13 -> 10 | C14: 409 | D14: 2849 | E14: UST | F14: 46000 | G14: 2600 | H14: =F14/G14 -> 17.692308
B15: =1+B14 -> 11 | C15: 459 | D15: 3777 | E15: UST | F15: 2135 | G15: 98 | H15: =F15/G15 -> 21.785714
B16: =1+B15 -> 12 | C16: 444 | D16: 3233 | E16: UST | F16: 29000000 | G16: 1300000 | H16: =F16/G16 -> 22.307692
B17: =1+B16 -> 13 | C17: 446 | D17: 3396 | E17: UST | F17: 27000 | G17: 1100 | H17: =F17/G17 -> 24.545455
... B82: =1+B81 -> 78 | C82: 444 | D82: 3264 | E82: UST | F82: 17000 | G82: 190 | H82: =F82/G82 -> 89.473684
B83: =1+B82 -> 79 | C83: 437 | D83: 3108 | E83: Terminal | F83: 43000000 | G83: 480000 | H83: =F83/G83 -> 89.583333 | I83: =B83 -> 79
B84: =1+B83 -> 80 | C84: 444 | D84: 3219 | E84: UST | F84: 8000000 | G84: 87000 | H84: =F84/G84 -> 91.954023
B85: =1+B84 -> 81 | C85: 459 | D85: 3778 | E85: UST | F85: 7830000 | G85: 85000 | H85: =F85/G85 -> 92.117647
B86: =1+B85 -> 82 | C86: 444 | D86: 3229 | E86: UST | F86: 130000000 | G86: 1300000 | H86: =F86/G86 -> 100
B87: =1+B86 -> 83 | C87: 444 | D87: 3280 | E87: UST | F87: 2000 | G87: 20 | H87: =F87/G87 -> 100
B88: =1+B87 -> 84 | C88: 444 | D88: 3344 | E88: UST | F88: 11000000 | G88: 110000 | H88: =F88/G88 -> 100
B89: =1+B88 -> 85 | C89: 450 | D89: 3465 | E89: UST | F89: 3400 | G89: 34 | H89: =F89/G89 -> 100
B90: =1+B89 -> 86 | C90: 444 | D90: 3238 | E90: UST | F90: 77500000 | G90: 770000 | H90: =F90/G90 -> 100.64935
B91: =1+B90 -> 87 | C91: 412 | D91: 2885 | E91: UST | F91: 3780 | G91: 37 | H91: =F91/G91 -> 102.16216
B92: =1+B91 -> 88 | C92: 423 | D92: 2963 | E92: UST | F92: 3990 | G92: 39 | H92: =F92/G92 -> 102.30769
B93: =1+B92 -> 89 | C93: 444 | D93: 3236 | E93: UST | F93: 63100000 | G93: 610000 | H93: =F93/G93 -> 103.44262
B94: =1+B93 -> 90 | C94: 444 | D94: 3346 | E94: UST | F94: 46000 | G94: 430 | H94: =F94/G94 -> 106.97674
B95: =1+B94 -> 91 | C95: 441 | D95: 3143 | E95: UST | F95: 15000 | G95: 140 | H95: =F95/G95 -> 107.14286
... B248: =1+B247 -> 244 | C248: 474 | D248: 6388 | E248: UST | F248: 113767000 | G248: 127000 | H248: =F248/G248 -> 895.80315
B249: =1+B248 -> 245 | C249: 450 | D249: 3473 | E249: UST | F249: 450000 | G249: 500 | H249: =F249/G249 -> 900 | I249: =(B249-I83) -> 166
B250: =1+B249 -> 246 | C250: 413 | D250: 2891 | E250: UST | F250: 139000 | G250: 150 | H250: =F250/G250 -> 926.66667
B251: =1+B250 -> 247 | C251: 420 | D251: 2941 | E251: UST | F251: 43200 | G251: 46.1 | H251: =F251/G251 -> 937.09328
B252: =1+B251 -> 248 | C252: 450 | D252: 3461 | E252: UST | F252: 4100 | G252: 4.3 | H252: =F252/G252 -> 953.48837
B253: =1+B252 -> 249 | C253: 442 | D253: 3164 | E253: UST | F253: 21000 | G253: 22 | H253: =F253/G253 -> 954.54545
B254: =1+B253 -> 250 | C254: 439 | D254: 3116 | E254: UST | F254: 270000 | G254: 280 | H254: =F254/G254 -> 964.28571
B255: =1+B254 -> 251 | C255: 464 | D255: 3816 | E255: UST | F255: 2016 | G255: 2 | H255: =F255/G255 -> 1008
B256: =1+B255 -> 252 | C256: 410 | D256: 2876 | E256: UST | F256: 2860 | G256: 2.8 | H256: =F256/G256 -> 1021.4286
B257: =1+B256 -> 253 | C257: 413 | D257: 2895 | E257: UST | F257: 12600 | G257: 12 | H257: =F257/G257 -> 1050
B258: =1+B257 -> 254 | C258: 444 | D258: 3362 | E258: UST | F258: 4500000 | G258: 4200 | H258: =F258/G258 -> 1071.4286
B259: =1+B258 -> 255 | C259: 412 | D259: 2889 | E259: UST | F259: 43400 | G259: 40 | H259: =F259/G259 -> 1085
B260: =1+B259 -> 256 | C260: 450 | D260: 3517 | E260: UST | F260: 9800 | G260: 9 | H260: =F260/G260 -> 1088.8889
B261: =1+B260 -> 257 | C261: 464 | D261: 3815 | E261: UST | F261: 2180 | G261: 2 | H261: =F261/G261 -> 1090
... B367: =1+B366 -> 363 | C367: 474 | D367: 6385 | E367: UST | F367: 1731000 | G367: 5 | H367: =F367/G367 -> 346200
B368: =1+B367 -> 364 | C368: 417 | D368: 2922 | E368: UST | F368: 46900 | G368: 0.1 | H368: =F368/G368 -> 469000 | I368: =(B368-I249-I83) -> 119

Sheet TPH-B Summary Stats
B2: Supplement (cont.): Summary of USEPA Petroleum Vapor Intrusion database samples for gasoline-only sites with TPH >1,000 µg/m3 [31].
B3: (Write-protection password: TPH)
B5: Total Sites: | C5: 48
B6: Total Samples: | C6: ='TPH-B Ratios Sorted'!B368 -> 364
B8: Median TPH:Benzene Ratio: | C8: =MEDIAN('TPH-B Ratios Sorted'!H5:H368) -> 300.9434
B9: Average TPH:Benzene Ratio: | C9: =AVERAGE('TPH-B Ratios Sorted'!H5:H368) -> 5565.8773
B11: TPH:Benzene Ratio | C11: %Total Samples
B12: <90:1 | C12: ='TPH-B Ratios Sorted'!I83/C6 -> 0.21703297
B13: >90:1 to <900:1 | C13: ='TPH-B Ratios Sorted'!I249/C6 -> 0.45604396
B14: >900:1 | C14: ='TPH-B Ratios Sorted'!I368/C6 -> 0.32692308
C15: =SUM(C12:C14) -> 1

Sheet Carbon Range Data
B2: Supplement (cont.): Summary of USEPA Petroleum Vapor Intrusion database samples for gasoline-only sites with TPH >1,000 µg/m3 [31].
B3: (Write-protection password: TPH)
B4: Sample Count | C4: Site ID | D4: Sample ID | E4: Parameter | F4: Soil Vapor µg/m3 | G4: Percent Composition | H4: TPH:Benzene
B5: 1 | C5: 459 | D5: 3775 | E5: Benzene | F5: 34
C6: 459 | D6: 3775 | E6: C5-C8 Aliphatic Hydrocarbons | F6: 3000 | G6: =F6/F9 -> 0.30612245
C7: 459 | D7: 3775 | E7: C9-C10 Aromatic Hydrocarbons | F7: 2400 | G7: =F7/F9 -> 0.24489796
C8: 459 | D8: 3775 | E8: C9-C12 Aliphatic Hydrocarbons | F8: 4400 | G8: =F8/F9 -> 0.44897959
C9: 459 | D9: 3775 | E9: Total Petroleum Hydrocarbons | F9: 9800 | G9: =SUM(G6:G8) -> 1 | H9: =F9/F5 -> 288.23529
B10: =B5+1 -> 2 | C10: 459 | D10: 3777 | E10: Benzene | F10: 98
C11: 459 | D11: 3777 | E11: C5-C8 Aliphatic Hydrocarbons | F11: 1800 | G11: =F11/F14 -> 0.84309133
C12: 459 | D12: 3777 | E12: C9-C10 Aromatic Hydrocarbons | F12: 55 | G12: =F12/F14 -> 0.025761124
C13: 459 | D13: 3777 | E13: C9-C12 Aliphatic Hydrocarbons | F13: 280 | G13: =F13/F14 -> 0.13114754
C14: 459 | D14: 3777 | E14: Total Petroleum Hydrocarbons | F14: 2135 | G14: =SUM(G11:G13) -> 1 | H14: =F14/F10 -> 21.785714
B15: =B10+1 -> 3 | C15: 459 | D15: 3778 | E15: Benzene | F15: 85000
C16: 459 | D16: 3778 | E16: C5-C8 Aliphatic Hydrocarbons | F16: 7400000 | G16: =F16/F19 -> 0.94508301
C17: 459 | D17: 3778 | E17: C9-C10 Aromatic Hydrocarbons | F17: 160000 | G17: =F17/F19 -> 0.020434227
C18: 459 | D18: 3778 | E18: C9-C12 Aliphatic Hydrocarbons | F18: 270000 | G18: =F18/F19 -> 0.034482759
C19: 459 | D19: 3778 | E19: Total Petroleum Hydrocarbons | F19: 7830000 | G19: =SUM(G16:G18) -> 1 | H19: =F19/F15 -> 92.117647
B20: =B15+1 -> 4 | C20: 459 | D20: 3780 | E20: Benzene | F20: 700
C21: 459 | D21: 3780 | E21: C5-C8 Aliphatic Hydrocarbons | F21: 19000 | G21: =F21/F24 -> 0.51351351
C22: 459 | D22: 3780 | E22: C9-C10 Aromatic Hydrocarbons | F22: 12000 | G22: =F22/F24 -> 0.32432432
C23: 459 | D23: 3780 | E23: C9-C12 Aliphatic Hydrocarbons | F23: 6000 | G23: =F23/F24 -> 0.16216216
C24: 459 | D24: 3780 | E24: Total Petroleum Hydrocarbons | F24: 37000 | G24: =SUM(G21:G23) -> 1 | H24: =F24/F20 -> 52.857143
B25: =B20+1 -> 5 | C25: 460 | D25: 3782 | E25: Benzene | F25: 24
C26: 460 | D26: 3782 | E26: C5-C8 Aliphatic Hydrocarbons | F26: 13000 | G26: =F26/F29 -> 0.99693252
C27: 460 | D27: 3782 | E27: C9-C10 Aromatic Hydrocarbons | F27: 20 | G27: =F27/F29 -> 0.0015337423
C28: 460 | D28: 3782 | E28: C9-C12 Aliphatic Hydrocarbons | F28: 20 | G28: =F28/F29 -> 0.0015337423
C29: 460 | D29: 3782 | E29: Total Petroleum Hydrocarbons | F29: 13040 | G29: =SUM(G26:G28) -> 1 | H29: =F29/F25 -> 543.33333
B30: =B25+1 -> 6 | C30: 460 | D30: 3783 | E30: Benzene | F30: 4
C31: 460 | D31: 3783 | E31: C5-C8 Aliphatic Hydrocarbons | F31: 1800 | G31: =F31/F34 -> 0.86956522
C32: 460 | D32: 3783 | E32: C9-C10 Aromatic Hydrocarbons | F32: 100 | G32: =F32/F34 -> 0.048309179
C33: 460 | D33: 3783 | E33: C9-C12 Aliphatic Hydrocarbons | F33: 170 | G33: =F33/F34 -> 0.082125604
C34: 460 | D34: 3783 | E34: Total Petroleum Hydrocarbons | F34: 2070 | G34: =SUM(G31:G33) -> 1 | H34: =F34/F30 -> 517.5
B35: =B30+1 -> 7 | C35: 461 | D35: 3787 | E35: Benzene | F35: 14
C36: 461 | D36: 3787 | E36: C5-C8 Aliphatic Hydrocarbons | F36: 1300 | G36: =F36/F39 -> 0.86206897
C37: 461 | D37: 3787 | E37: C9-C10 Aromatic Hydrocarbons | F37: 28 | G37: =F37/F39 -> 0.018567639
C38: 461 | D38: 3787 | E38: C9-C12 Aliphatic Hydrocarbons | F38: 180 | G38: =F38/F39 -> 0.1193634
C39: 461 | D39: 3787 | E39: Total Petroleum Hydrocarbons | F39: 1508 | G39: =SUM(G36:G38) -> 1 | H39: =F39/F35 -> 107.71429
B40: =B35+1 -> 8 | C40: 461 | D40: 3788 | E40: Benzene | F40: 55
C41: 461 | D41: 3788 | E41: C5-C8 Aliphatic Hydrocarbons | F41: 3300 | G41: =F41/F44 -> 0.90659341
C42: 461 | D42: 3788 | E42: C9-C10 Aromatic Hydrocarbons | F42: 100 | G42: =F42/F44 -> 0.027472527
C43: 461 | D43: 3788 | E43: C9-C12 Aliphatic Hydrocarbons | F43: 240 | G43: =F43/F44 -> 0.065934066
C44: 461 | D44: 3788 | E44: Total Petroleum Hydrocarbons | F44: 3640 | G44: =SUM(G41:G43) -> 1 | H44: =F44/F40 -> 66.181818
B45: =B40+1 -> 9 | C45: 461 | D45: 3789 | E45: Benzene | F45: 34
C46: 461 | D46: 3789 | E46: C5-C8 Aliphatic Hydrocarbons | F46: 990 | G46: =F46/F49 -> 0.80487805
C47: 461 | D47: 3789 | E47: C9-C10 Aromatic Hydrocarbons | F47: 100 | G47: =F47/F49 -> 0.081300813
C48: 461 | D48: 3789 | E48: C9-C12 Aliphatic Hydrocarbons | F48: 140 | G48: =F48/F49 -> 0.11382114
C49: 461 | D49: 3789 | E49: Total Petroleum Hydrocarbons | F49: 1230 | G49: =SUM(G46:G48) -> 1 | H49: =F49/F45 -> 36.176471
B50: =B45+1 -> 10 | C50: 461 | D50: 3790 | E50: Benzene | F50: 25
C51: 461 | D51: 3790 | E51: C5-C8 Aliphatic Hydrocarbons | F51: 1200 | G51: =F51/F54 -> 0.91954023
C52: 461 | D52: 3790 | E52: C9-C10 Aromatic Hydrocarbons | F52: 23 | G52: =F52/F54 -> 0.017624521
C53: 461 | D53: 3790 | E53: C9-C12 Aliphatic Hydrocarbons | F53: 82 | G53: =F53/F54 -> 0.062835249
C54: 461 | D54: 3790 | E54: Total Petroleum Hydrocarbons | F54: 1305 | G54: =SUM(G51:G53) -> 1 | H54: =F54/F50 -> 52.2
B55: =B50+1 -> 11 | C55: 463 | D55: 3796 | E55: Benzene | F55: 6.9
C56: 463 | D56: 3796 | E56: C5-C8 Aliphatic Hydrocarbons | F56: 610 | G56: =F56/F59 -> 0.54954955
C57: 463 | D57: 3796 | E57: C9-C10 Aromatic Hydrocarbons | F57: 120 | G57: =F57/F59 -> 0.10810811
C58: 463 | D58: 3796 | E58: C9-C12 Aliphatic Hydrocarbons | F58: 380 | G58: =F58/F59 -> 0.34234234
C59: 463 | D59: 3796 | E59: Total Petroleum Hydrocarbons | F59: 1110 | G59: =SUM(G56:G58) -> 1 | H59: =F59/F55 -> 160.86957
B60: =B55+1 -> 12 | C60: 464 | D60: 3801 | E60: Benzene | F60: 2
C61: 464 | D61: 3801 | E61: C5-C8 Aliphatic Hydrocarbons | F61: 530 | G61: =F61/F64 -> 0.20479134
C62: 464 | D62: 3801 | E62: C9-C10 Aromatic Hydrocarbons | F62: 58 | G62: =F62/F64 -> 0.022411128
C63: 464 | D63: 3801 | E63: C9-C12 Aliphatic Hydrocarbons | F63: 2000 | G63: =F63/F64 -> 0.77279753
C64: 464 | D64: 3801 | E64: Total Petroleum Hydrocarbons | F64: 2588 | G64: =SUM(G61:G63) -> 1 | H64: =F64/F60 -> 1294
B65: =B60+1 -> 13 | C65: 464 | D65: 3802 | E65: Benzene | F65: 20
C66: 464 | D66: 3802 | E66: C5-C8 Aliphatic Hydrocarbons | F66: 45000 | G66: =F66/F69 -> 0.98944591
C67: 464 | D67: 3802 | E67: C9-C10 Aromatic Hydrocarbons | F67: 100 | G67: =F67/F69 -> 0.0021987687
C68: 464 | D68: 3802 | E68: C9-C12 Aliphatic Hydrocarbons | F68: 380 | G68: =F68/F69 -> 0.008355321
C69: 464 | D69: 3802 | E69: Total Petroleum Hydrocarbons | F69: 45480 | G69: =SUM(G66:G68) -> 1 | H69: =F69/F65 -> 2274
B70: =B65+1 -> 14 | C70: 464 | D70: 3807 | E70: Benzene | F70: 2
C71: 464 | D71: 3807 | E71: C5-C8 Aliphatic Hydrocarbons | F71: 890 | G71: =F71/F74 -> 0.87684729
C72: 464 | D72: 3807 | E72: C9-C10 Aromatic Hydrocarbons | F72: 15 | G72: =F72/F74 -> 0.014778325
C73: 464 | D73: 3807 | E73: C9-C12 Aliphatic Hydrocarbons | F73: 110 | G73: =F73/F74 -> 0.10837438
C74: 464 | D74: 3807 | E74: Total Petroleum Hydrocarbons | F74: 1015 | G74: =SUM(G71:G73) -> 1 | H74: =F74/F70 -> 507.5
B75: =B70+1 -> 15 | C75: 464 | D75: 3815 | E75: Benzene | F75: 2
C76: 464 | D76: 3815 | E76: C5-C8 Aliphatic Hydrocarbons | F76: 270 | G76: =F76/F79 -> 0.12385321
C77: 464 | D77: 3815 | E77: C9-C10 Aromatic Hydrocarbons | F77: 1200 | G77: =F77/F79 -> 0.55045872
C78: 464 | D78: 3815 | E78: C9-C12 Aliphatic Hydrocarbons | F78: 710 | G78: =F78/F79 -> 0.32568807
C79: 464 | D79: 3815 | E79: Total Petroleum Hydrocarbons | F79: 2180 | G79: =SUM(G76:G78) -> 1 | H79: =F79/F75 -> 1090
B80: =B75+1 -> 16 | C80: 464 | D80: 3816 | E80: Benzene | F80: 2
C81: 464 | D81: 3816 | E81: C5-C8 Aliphatic Hydrocarbons | F81: 1400 | G81: =F81/F84 -> 0.69444444
C82: 464 | D82: 3816 | E82: C9-C10 Aromatic Hydrocarbons | F82: 56 | G82: =F82/F84 -> 0.027777778
C83: 464 | D83: 3816 | E83: C9-C12 Aliphatic Hydrocarbons | F83: 560 | G83: =F83/F84 -> 0.27777778
C84: 464 | D84: 3816 | E84: Total Petroleum Hydrocarbons | F84: 2016 | G84: =SUM(G81:G83) -> 1 | H84: =F84/F80 -> 1008
B85: =B80+1 -> 17 | C85: 464 | D85: 3824 | E85: Benzene | F85: 20
C86: 464 | D86: 3824 | E86: C5-C8 Aliphatic Hydrocarbons | F86: 16000 | G86: =F86/F89 -> 0.98522167
C87: 464 | D87: 3824 | E87: C9-C10 Aromatic Hydrocarbons | F87: 100 | G87: =F87/F89 -> 0.0061576355
C88: 464 | D88: 3824 | E88: C9-C12 Aliphatic Hydrocarbons | F88: 140 | G88: =F88/F89 -> 0.0086206897
C89: 464 | D89: 3824 | E89: Total Petroleum Hydrocarbons | F89: 16240 | G89: =SUM(G86:G88) -> 1 | H89: =F89/F85 -> 812
B90: =B85+1 -> 18 | C90: 465 | D90: 3827 | E90: Benzene | F90: 70000
C91: 465 | D91: 3827 | E91: C5-C8 Aliphatic Hydrocarbons | F91: 24000000 | G91: =F91/F94 -> 0.89219331
C92: 465 | D92: 3827 | E92: C9-C10 Aromatic Hydrocarbons | F92: 100000 | G92: =F92/F94 -> 0.0037174721
C93: 465 | D93: 3827 | E93: C9-C12 Aliphatic Hydrocarbons | F93: 2800000 | G93: =F93/F94 -> 0.10408922
C94: 465 | D94: 3827 | E94: Total Petroleum Hydrocarbons | F94: 26900000 | G94: =SUM(G91:G93) -> 1 | H94: =F94/F90 -> 384.28571
B95: =B90+1 -> 19 | C95: 465 | D95: 3828 | E95: Benzene | F95: 20000
C96: 465 | D96: 3828 | E96: C5-C8 Aliphatic Hydrocarbons | F96: 4500000 | G96: =F96/F99 -> 0.91290853
C97: 465 | D97: 3828 | E97: C9-C10 Aromatic Hydrocarbons | F97: 9300 | G97: =F97/F99 -> 0.0018866776
C98: 465 | D98: 3828 | E98: C9-C12 Aliphatic Hydrocarbons | F98: 420000 | G98: =F98/F99 -> 0.085204796
C99: 465 | D99: 3828 | E99: Total Petroleum Hydrocarbons | F99: 4929300 | G99: =SUM(G96:G98) -> 1 | H99: =F99/F95 -> 246.465
B100: =B95+1 -> 20 | C100: 465 | D100: 3829 | E100: Benzene | F100: 6700
C101: 465 | D101: 3829 | E101: C5-C8 Aliphatic Hydrocarbons | F101: 31000000 | G101: =F101/F104 -> 0.99700897
...

Sheet Carbon Range Summary Stats
B2: Supplement (cont.): Summary of USEPA Petroleum Vapor Intrusion database samples for gasoline-only sites with TPH >1,000 µg/m3 [31].
B3: (Write-protection password: TPH)
B4: Carbon Range | C4: Average | D4: RfC (µg/m3)
B5: C5-C8 Aliphatic Hydrocarbons | C5: =AVERAGE('Carbon Range Data'!G6,'Carbon Range Data'!G11,'Carbon Range Data'!G16,'Carbon Range Data'!G21,'Carbon Range Data'!G26,'Carbon Range Data'!G31,'Carbon Range Data'!G36,'Carbon Range Data'!G41,'Carbon Range Data'!G46,'Carbon Range Data'!G51,'Carbon Range Data'!G56,'Carbon Range Data'!G61,'Carbon Range Data'!G66,'Carbon Range Data'!G71,'Carbon Range Data'!G76,'Carbon Range Data'!G81,'Carbon Range Data'!G86,'Carbon Range Data'!G91,'Carbon Range Data'!G96,'Carbon Range Data'!G101,'Carbon Range Data'!G106,'Carbon Range Data'!G111,'Carbon Range Data'!G116,'Carbon Range Data'!G121,'Carbon Range Data'!G126,'Carbon Range Data'!G131,'Carbon Range Data'!G136,'Carbon Range Data'!G141,'Carbon Range Data'!G146,'Carbon Range Data'!G151,'Carbon Range Data'!G156,'Carbon Range Data'!G161,'Carbon Range Data'!G166,'Carbon Range Data'!G171,'Carbon Range Data'!G176) -> 0.77345622 | D5: 600
B6: C9-C12 Aliphatic Hydrocarbons | C6: =AVERAGE('Carbon Range Data'!G7,'Carbon Range Data'!G12,'Carbon Range Data'!G17,'Carbon Range Data'!G22,'Carbon Range Data'!G27,'Carbon Range Data'!G32,'Carbon Range Data'!G37,'Carbon Range Data'!G42,'Carbon Range Data'!G47,'Carbon Range Data'!G52,'Carbon Range Data'!G57,'Carbon Range Data'!G62,'Carbon Range Data'!G67,'Carbon Range Data'!G72,'Carbon Range Data'!G77,'Carbon Range Data'!G82,'Carbon Range Data'!G87,'Carbon Range Data'!G92,'Carbon Range Data'!G97,'Carbon Range Data'!G102,'Carbon Range Data'!G107,'Carbon Range Data'!G112,'Carbon Range Data'!G117,'Carbon Range Data'!G122,'Carbon Range Data'!G127,'Carbon Range Data'!G132,'Carbon Range Data'!G137,'Carbon Range Data'!G142,'Carbon Range Data'!G147,'Carbon Range Data'!G152,'Carbon Range Data'!G157,'Carbon Range Data'!G162,'Carbon Range Data'!G167,'Carbon Range Data'!G172,'Carbon Range Data'!G177) -> 0.072599055 | D6: 100
B7: C9-C10 Aromatic Hydrocarbons | C7: =AVERAGE('Carbon Range Data'!G8,'Carbon Range Data'!G13,'Carbon Range Data'!G18,'Carbon Range Data'!G23,'Carbon Range Data'!G28,'Carbon Range Data'!G33,'Carbon Range Data'!G38,'Carbon Range Data'!G43,'Carbon Range Data'!G48,'Carbon Range Data'!G53,'Carbon Range Data'!G58,'Carbon Range Data'!G63,'Carbon Range Data'!G68,'Carbon Range Data'!G73,'Carbon Range Data'!G78,'Carbon Range Data'!G83,'Carbon Range Data'!G88,'Carbon Range Data'!G93,'Carbon Range Data'!G98,'Carbon Range Data'!G103,'Carbon Range Data'!G108,'Carbon Range Data'!G113,'Carbon Range Data'!G118,'Carbon Range Data'!G123,'Carbon Range Data'!G128,'Carbon Range Data'!G133,'Carbon Range Data'!G138,'Carbon Range Data'!G143,'Carbon Range Data'!G148,'Carbon Range Data'!G153,'Carbon Range Data'!G158,'Carbon Range Data'!G163,'Carbon Range Data'!G168,'Carbon Range Data'!G173,'Carbon Range Data'!G178) -> 0.15394472 | D7: 100
C8: Weighted RfC: | D8: =1/((C5/D5)+(C6/D7)+(C7/D6)) -> 281.33103
B10: Example Indoor Air Screening Levels | C10: µg/m3
B11: Weighted TPH (HQ=1): | C11: 290
B12: Benzene Indoor Air (ECR=10-6): | C12: 0.31
B13: TPH:Benzene Critical Ratio: | C13: =C11/C12 -> 935.48387
